Package: SIM
Version: 1.74.0
Command: /home/biocbuild/R/R-beta-2024-04-15_r86425/bin/R CMD build --keep-empty-dirs --no-resave-data SIM
StartedAt: 2024-05-09 03:37:45 -0000 (Thu, 09 May 2024)
EndedAt: 2024-05-09 03:38:28 -0000 (Thu, 09 May 2024)
EllapsedTime: 43.1 seconds
RetCode: 0
Status: OK
PackageFile: SIM_1.74.0.tar.gz
PackageFileSize: 450.8 <A href="http://en.wikipedia.org/wiki/KiB" target="_blank">KiB</A>