Package: SEtools Version: 1.18.0 Command: /home/biocbuild/bbs-3.19-bioc/R/bin/R CMD check --install=check:SEtools.install-out.txt --library=/home/biocbuild/bbs-3.19-bioc/R/site-library --timings SEtools_1.18.0.tar.gz StartedAt: 2024-10-17 05:05:36 -0400 (Thu, 17 Oct 2024) EndedAt: 2024-10-17 05:09:41 -0400 (Thu, 17 Oct 2024) EllapsedTime: 245.6 seconds RetCode: 0 Status: OK CheckDir: SEtools.Rcheck Warnings: 0