Package: SEtools Version: 1.18.0 Command: /home/biocbuild/R/R-beta-2024-04-15_r86425/bin/R CMD INSTALL SEtools StartedAt: 2024-05-08 21:02:55 -0000 (Wed, 08 May 2024) EndedAt: 2024-05-08 21:03:39 -0000 (Wed, 08 May 2024) EllapsedTime: 43.7 seconds RetCode: 0 Status: OK