Package: SELEX Version: 1.36.0 Maintainer: Harmen J. Bussemaker MaintainerEmail: hjb2004 at columbia.edu git_url: https://git.bioconductor.org/packages/SELEX git_branch: RELEASE_3_19 git_last_commit: ee8e854 git_last_commit_date: 2024-04-30 10:41:48 -0400 (Tue, 30 Apr 2024)