Package: SDAMS
Version: 1.24.0
Command: F:\biocbuild\bbs-3.19-bioc\R\bin\R.exe CMD check --no-multiarch --install=check:SDAMS.install-out.txt --library=F:\biocbuild\bbs-3.19-bioc\R\library --no-vignettes --timings SDAMS_1.24.0.tar.gz
StartedAt: 2024-06-27 06:01:10 -0400 (Thu, 27 Jun 2024)
EndedAt: 2024-06-27 06:05:41 -0400 (Thu, 27 Jun 2024)
EllapsedTime: 270.8 seconds
RetCode: 0
Status: OK
CheckDir: SDAMS.Rcheck
Warnings: 0