Package: SDAMS
Version: 1.24.0
Command: chmod a+r SDAMS -R && F:\biocbuild\bbs-3.19-bioc\R\bin\R.exe CMD build --keep-empty-dirs --no-resave-data SDAMS
StartedAt: 2024-06-26 21:51:34 -0400 (Wed, 26 Jun 2024)
EndedAt: 2024-06-26 21:52:42 -0400 (Wed, 26 Jun 2024)
EllapsedTime: 67.9 seconds
RetCode: 0
Status: OK
PackageFile: SDAMS_1.24.0.tar.gz
PackageFileSize: 1.143 <A href="http://en.wikipedia.org/wiki/MiB" target="_blank">MiB</A>