Package: SDAMS
Version: 1.24.0
Command: /Library/Frameworks/R.framework/Resources/bin/R CMD INSTALL SDAMS
StartedAt: 2024-10-16 16:11:05 -0400 (Wed, 16 Oct 2024)
EndedAt: 2024-10-16 16:11:39 -0400 (Wed, 16 Oct 2024)
EllapsedTime: 34.2 seconds
RetCode: 0
Status: OK