Package: SDAMS
Version: 1.24.0
Command: /Library/Frameworks/R.framework/Resources/bin/R CMD build --keep-empty-dirs --no-resave-data SDAMS
StartedAt: 2024-10-17 09:00:05 -0400 (Thu, 17 Oct 2024)
EndedAt: 2024-10-17 09:01:08 -0400 (Thu, 17 Oct 2024)
EllapsedTime: 63.5 seconds
RetCode: 0
Status: OK
PackageFile: SDAMS_1.24.0.tar.gz
PackageFileSize: 1.28 <A href="http://en.wikipedia.org/wiki/MiB" target="_blank">MiB</A>