Package: SDAMS Version: 1.24.0 Maintainer: Yuntong Li MaintainerEmail: liyuntong0704 at gmail.com git_url: https://git.bioconductor.org/packages/SDAMS git_branch: RELEASE_3_19 git_last_commit: 821cc6c git_last_commit_date: 2024-04-30 11:05:53 -0400 (Tue, 30 Apr 2024)