Package: S4Vectors
Version: 0.42.1
Command: E:\biocbuild\bbs-3.19-bioc\R\bin\R.exe CMD INSTALL S4Vectors
StartedAt: 2024-10-16 16:01:17 -0400 (Wed, 16 Oct 2024)
EndedAt: 2024-10-16 16:04:24 -0400 (Wed, 16 Oct 2024)
EllapsedTime: 187.0 seconds
RetCode: 0
Status: OK