##############################################################################
##############################################################################
###
### Running command:
###
###   chmod a+r S4Vectors -R && E:\biocbuild\bbs-3.19-bioc\R\bin\R.exe CMD build --keep-empty-dirs --no-resave-data S4Vectors
###
##############################################################################
##############################################################################


* checking for file 'S4Vectors/DESCRIPTION' ... OK
* preparing 'S4Vectors':
* checking DESCRIPTION meta-information ... OK
* cleaning src
* installing the package to build vignettes
* creating vignettes ... OK
* cleaning src
* checking for LF line-endings in source and make files and shell scripts
* checking for empty or unneeded directories
* building 'S4Vectors_0.42.1.tar.gz'