Package: Rsubread
Version: 2.18.0
Maintainer: Wei Shi <wei.shi@onjcri.org.au>, Yang Liao <yang.liao@onjcri.org.au> and Gordon K Smyth
MaintainerEmail: smyth at wehi.edu.au
git_url: https://git.bioconductor.org/packages/Rsubread
git_branch: RELEASE_3_19
git_last_commit: 900c360
git_last_commit_date: 2024-04-30 10:23:58 -0400 (Tue, 30 Apr 2024)