Package: Rmmquant
Version: 1.22.0
Command: /home/biocbuild/bbs-3.19-bioc/R/bin/R CMD check --install=check:Rmmquant.install-out.txt --library=/home/biocbuild/bbs-3.19-bioc/R/site-library --timings Rmmquant_1.22.0.tar.gz
StartedAt: 2024-10-17 04:26:07 -0400 (Thu, 17 Oct 2024)
EndedAt: 2024-10-17 04:31:01 -0400 (Thu, 17 Oct 2024)
EllapsedTime: 294.7 seconds
RetCode: 0
Status: OK
CheckDir: Rmmquant.Rcheck
Warnings: 0