Package: Rmagpie
Version: 1.60.0
Maintainer: Camille Maumet
MaintainerEmail: Rmagpie at gmail.com
git_url: https://git.bioconductor.org/packages/Rmagpie
git_branch: RELEASE_3_19
git_last_commit: 8653c7f
git_last_commit_date: 2024-04-30 10:19:58 -0400 (Tue, 30 Apr 2024)