Package: Rhtslib
Version: 3.0.0
Maintainer: Hervé Pagès
MaintainerEmail: hpages.on.github at gmail.com
git_url: https://git.bioconductor.org/packages/Rhtslib
git_branch: RELEASE_3_19
git_last_commit: 1c89207
git_last_commit_date: 2024-04-30 10:41:57 -0400 (Tue, 30 Apr 2024)