Package: Rgraphviz
Version: 2.48.0
Command: E:\biocbuild\bbs-3.19-bioc\R\bin\R.exe CMD INSTALL Rgraphviz
StartedAt: 2024-10-16 16:02:36 -0400 (Wed, 16 Oct 2024)
EndedAt: 2024-10-16 16:19:47 -0400 (Wed, 16 Oct 2024)
EllapsedTime: 1031.3 seconds
RetCode: 0
Status: OK