Package: Rgraphviz
Version: 2.48.0
Command: F:\biocbuild\bbs-3.19-bioc\R\bin\R.exe CMD INSTALL Rgraphviz
StartedAt: 2024-06-26 15:42:43 -0400 (Wed, 26 Jun 2024)
EndedAt: 2024-06-26 15:59:26 -0400 (Wed, 26 Jun 2024)
EllapsedTime: 1003.7 seconds
RetCode: 0
Status: OK