Package: Rgraphviz
Version: 2.48.0
Command: /home/biocbuild/R/R-beta-2024-04-15_r86425/bin/R CMD check --install=check:Rgraphviz.install-out.txt --library=/home/biocbuild/R/R-beta-2024-04-15_r86425/site-library --no-vignettes --timings Rgraphviz_2.48.0.tar.gz
StartedAt: 2024-05-09 11:10:50 -0000 (Thu, 09 May 2024)
EndedAt: 2024-05-09 11:11:35 -0000 (Thu, 09 May 2024)
EllapsedTime: 45.1 seconds
RetCode: 0
Status: WARNINGS
CheckDir: Rgraphviz.Rcheck
Warnings: 2