Package: Repitools
Version: 1.50.0
Maintainer: Mark Robinson
MaintainerEmail: mark.robinson at mls.uzh.ch
git_url: https://git.bioconductor.org/packages/Repitools
git_branch: RELEASE_3_19
git_last_commit: bbf5dba
git_last_commit_date: 2024-04-30 10:24:48 -0400 (Tue, 30 Apr 2024)