Package: RepViz
Version: 1.20.0
Command: /Library/Frameworks/R.framework/Resources/bin/R CMD build --keep-empty-dirs --no-resave-data RepViz
StartedAt: 2024-06-09 17:53:46 -0400 (Sun, 09 Jun 2024)
EndedAt: 2024-06-09 17:54:21 -0400 (Sun, 09 Jun 2024)
EllapsedTime: 35.0 seconds
RetCode: 0
Status: OK
PackageFile: RepViz_1.20.0.tar.gz
PackageFileSize: 273.7 <A href="http://en.wikipedia.org/wiki/KiB" target="_blank">KiB</A>