Package: RefPlus
Version: 1.74.0
Command: E:\biocbuild\bbs-3.19-bioc\R\bin\R.exe CMD check --no-multiarch --install=check:RefPlus.install-out.txt --library=E:\biocbuild\bbs-3.19-bioc\R\library --no-vignettes --timings RefPlus_1.74.0.tar.gz
StartedAt: 2024-10-17 04:55:21 -0400 (Thu, 17 Oct 2024)
EndedAt: 2024-10-17 04:56:47 -0400 (Thu, 17 Oct 2024)
EllapsedTime: 85.8 seconds
RetCode: 0
Status: OK
CheckDir: RefPlus.Rcheck
Warnings: 0