Package: RefPlus
Version: 1.74.0
Command: /Library/Frameworks/R.framework/Resources/bin/R CMD INSTALL RefPlus
StartedAt: 2024-10-16 15:57:57 -0400 (Wed, 16 Oct 2024)
EndedAt: 2024-10-16 15:58:08 -0400 (Wed, 16 Oct 2024)
EllapsedTime: 11.2 seconds
RetCode: 0
Status: OK