Package: RefPlus
Version: 1.74.0
Command: rm -rf RefPlus.buildbin-libdir && mkdir RefPlus.buildbin-libdir && /Users/biocbuild/BBS/utils/build-universal.sh RefPlus_1.74.0.tar.gz /Library/Frameworks/R.framework/Resources/bin/R RefPlus.buildbin-libdir
StartedAt: 2024-10-18 20:12:20 -0400 (Fri, 18 Oct 2024)
EndedAt: 2024-10-18 20:12:39 -0400 (Fri, 18 Oct 2024)
EllapsedTime: 18.3 seconds
RetCode: 0
Status: OK
PackageFile: RefPlus_1.74.0.tgz
PackageFileSize: 882.3 <A href="http://en.wikipedia.org/wiki/KiB" target="_blank">KiB</A>