Package: RefPlus Version: 1.74.0 Maintainer: Kai-Ming Chang MaintainerEmail: kaiming at gmail.com git_url: https://git.bioconductor.org/packages/RefPlus git_branch: RELEASE_3_19 git_last_commit: b01bf68 git_last_commit_date: 2024-04-30 10:16:11 -0400 (Tue, 30 Apr 2024)