Package: ReactomeGSA
Version: 1.18.0
Maintainer: Johannes Griss
MaintainerEmail: johannes.griss at meduniwien.ac.at
git_url: https://git.bioconductor.org/packages/ReactomeGSA
git_branch: RELEASE_3_19
git_last_commit: 4bfdb0f
git_last_commit_date: 2024-04-30 11:17:23 -0400 (Tue, 30 Apr 2024)