Package: RcwlPipelines
Version: 1.20.0
Maintainer: Qiang Hu
MaintainerEmail: qiang.hu at roswellpark.org
git_url: https://git.bioconductor.org/packages/RcwlPipelines
git_branch: RELEASE_3_19
git_last_commit: 9cb016c
git_last_commit_date: 2024-04-30 11:13:08 -0400 (Tue, 30 Apr 2024)