##############################################################################
##############################################################################
###
### Running command:
###
###   /Library/Frameworks/R.framework/Resources/bin/R CMD build --keep-empty-dirs --no-resave-data RcisTarget
###
##############################################################################
##############################################################################


* checking for file ‘RcisTarget/DESCRIPTION’ ... OK
* preparing ‘RcisTarget’:
* checking DESCRIPTION meta-information ... OK
* installing the package to build vignettes
      -----------------------------------
* installing *source* package ‘RcisTarget’ ...
** using staged installation
** R
** data
** inst
** byte-compile and prepare package for lazy loading
Error in dyn.load(file, DLLpath = DLLpath, ...) : 
  unable to load shared object '/Library/Frameworks/R.framework/Versions/4.4-x86_64/Resources/library/arrow/libs/arrow.so':
  dlopen(/Library/Frameworks/R.framework/Versions/4.4-x86_64/Resources/library/arrow/libs/arrow.so, 0x0006): symbol not found in flat namespace (_ZSTD_compress)
Calls: <Anonymous> ... asNamespace -> loadNamespace -> library.dynam -> dyn.load
Execution halted
ERROR: lazy loading failed for package ‘RcisTarget’
* removing ‘/private/tmp/Rtmpf4a7e2/Rinst153942b72a8c/RcisTarget’
      -----------------------------------
ERROR: package installation failed