Package: RcisTarget
Version: 1.24.0
Command: rm -rf RcisTarget.buildbin-libdir && mkdir RcisTarget.buildbin-libdir && /Users/biocbuild/BBS/utils/build-universal.sh RcisTarget_1.24.0.tar.gz /Library/Frameworks/R.framework/Resources/bin/R RcisTarget.buildbin-libdir
StartedAt: 2024-08-15 15:08:14 -0400 (Thu, 15 Aug 2024)
EndedAt: 2024-08-15 15:09:39 -0400 (Thu, 15 Aug 2024)
EllapsedTime: 84.7 seconds
RetCode: 0
Status: OK
PackageFile: RcisTarget_1.24.0.tgz
PackageFileSize: 13.01 <A href="http://en.wikipedia.org/wiki/MiB" target="_blank">MiB</A>