Package: RcisTarget
Version: 1.24.0
Command: /home/biocbuild/R/R-beta-2024-04-15_r86425/bin/R CMD check --install=check:RcisTarget.install-out.txt --library=/home/biocbuild/R/R-beta-2024-04-15_r86425/site-library --no-vignettes --timings RcisTarget_1.24.0.tar.gz
StartedAt: 2024-05-09 11:00:36 -0000 (Thu, 09 May 2024)
EndedAt: 2024-05-09 11:08:09 -0000 (Thu, 09 May 2024)
EllapsedTime: 454.0 seconds
RetCode: 0
Status: OK
CheckDir: RcisTarget.Rcheck
Warnings: 0