Package: RcisTarget
Version: 1.24.0
Command: /home/biocbuild/R/R-beta-2024-04-15_r86425/bin/R CMD build --keep-empty-dirs --no-resave-data RcisTarget
StartedAt: 2024-05-09 02:50:51 -0000 (Thu, 09 May 2024)
EndedAt: 2024-05-09 02:52:37 -0000 (Thu, 09 May 2024)
EllapsedTime: 106.1 seconds
RetCode: 0
Status: OK
PackageFile: RcisTarget_1.24.0.tar.gz
PackageFileSize: 12.9 <A href="http://en.wikipedia.org/wiki/MiB" target="_blank">MiB</A>