##############################################################################
##############################################################################
###
### Running command:
###
###   /home/biocbuild/R/R-beta-2024-04-15_r86425/bin/R CMD build --keep-empty-dirs --no-resave-data Rbowtie2
###
##############################################################################
##############################################################################


* checking for file ‘Rbowtie2/DESCRIPTION’ ... OK
* preparing ‘Rbowtie2’:
* checking DESCRIPTION meta-information ... OK
* cleaning src
* installing the package to build vignettes
* creating vignettes ... OK
* cleaning src
* checking for LF line-endings in source and make files and shell scripts
* checking for empty or unneeded directories
* building ‘Rbowtie2_2.10.0.tar.gz’