Package: Rbowtie2
Version: 2.10.0
Command: /Library/Frameworks/R.framework/Resources/bin/R CMD build --keep-empty-dirs --no-resave-data Rbowtie2
StartedAt: 2024-06-10 03:09:14 -0400 (Mon, 10 Jun 2024)
EndedAt: 2024-06-10 03:14:10 -0400 (Mon, 10 Jun 2024)
EllapsedTime: 296.0 seconds
RetCode: 0
Status: OK
PackageFile: Rbowtie2_2.10.0.tar.gz
PackageFileSize: 1.711 <A href="http://en.wikipedia.org/wiki/MiB" target="_blank">MiB</A>