Package: Rbowtie2
Version: 2.10.0
Command: rm -rf Rbowtie2.buildbin-libdir && mkdir Rbowtie2.buildbin-libdir && /Users/biocbuild/BBS/utils/build-universal.sh Rbowtie2_2.10.0.tar.gz /Library/Frameworks/R.framework/Resources/bin/R Rbowtie2.buildbin-libdir
StartedAt: 2024-06-11 12:42:38 -0400 (Tue, 11 Jun 2024)
EndedAt: 2024-06-11 12:48:51 -0400 (Tue, 11 Jun 2024)
EllapsedTime: 372.6 seconds
RetCode: 0
Status: OK
PackageFile: Rbowtie2_2.10.0.tgz
PackageFileSize: 1.843 <A href="http://en.wikipedia.org/wiki/MiB" target="_blank">MiB</A>