Package: RTNsurvival
Version: 1.28.0
Maintainer: Clarice Groeneveld <clari.groeneveld@gmail.com>, Mauro A. A. Castro
MaintainerEmail: mauro.a.castro at gmail.com
git_url: https://git.bioconductor.org/packages/RTNsurvival
git_branch: RELEASE_3_19
git_last_commit: a580271
git_last_commit_date: 2024-04-30 10:58:39 -0400 (Tue, 30 Apr 2024)