Package: RTCGAToolbox
Version: 2.34.0
Maintainer: Marcel Ramos
MaintainerEmail: marcel.ramos at roswellpark.org
git_url: https://git.bioconductor.org/packages/RTCGAToolbox
git_branch: RELEASE_3_19
git_last_commit: 4772aff
git_last_commit_date: 2024-04-30 10:43:59 -0400 (Tue, 30 Apr 2024)