Package: RSeqAn
Version: 1.24.0
Maintainer: August Guang
MaintainerEmail: august.guang at gmail.com
git_url: https://git.bioconductor.org/packages/RSeqAn
git_branch: RELEASE_3_19
git_last_commit: a882262
git_last_commit_date: 2024-04-30 11:05:51 -0400 (Tue, 30 Apr 2024)