Package: ROCpAI
Version: 1.16.0
Maintainer: Juan-Pedro Garcia
MaintainerEmail: juanpedro.garcia4 at um.es
git_url: https://git.bioconductor.org/packages/ROCpAI
git_branch: RELEASE_3_19
git_last_commit: 2e81a21
git_last_commit_date: 2024-04-30 11:22:11 -0400 (Tue, 30 Apr 2024)