Package: RNAmodR
Version: 1.18.0
Command: /Library/Frameworks/R.framework/Resources/bin/R CMD INSTALL RNAmodR
StartedAt: 2024-10-16 16:05:28 -0400 (Wed, 16 Oct 2024)
EndedAt: 2024-10-16 16:08:16 -0400 (Wed, 16 Oct 2024)
EllapsedTime: 168.0 seconds
RetCode: 0
Status: OK