Package: RNAmodR
Version: 1.18.0
Command: rm -rf RNAmodR.buildbin-libdir && mkdir RNAmodR.buildbin-libdir && /Users/biocbuild/BBS/utils/build-universal.sh RNAmodR_1.18.0.tar.gz /Library/Frameworks/R.framework/Resources/bin/R RNAmodR.buildbin-libdir
StartedAt: 2024-10-17 17:01:48 -0400 (Thu, 17 Oct 2024)
EndedAt: 2024-10-17 17:04:57 -0400 (Thu, 17 Oct 2024)
EllapsedTime: 189.1 seconds
RetCode: 0
Status: OK
PackageFile: RNAmodR_1.18.0.tgz
PackageFileSize: 2.946 <A href="http://en.wikipedia.org/wiki/MiB" target="_blank">MiB</A>