Package: RNAmodR
Version: 1.18.0
Command: /Library/Frameworks/R.framework/Resources/bin/R CMD INSTALL RNAmodR
StartedAt: 2024-06-09 15:27:09 -0400 (Sun, 09 Jun 2024)
EndedAt: 2024-06-09 15:28:45 -0400 (Sun, 09 Jun 2024)
EllapsedTime: 95.7 seconds
RetCode: 0
Status: OK