Package: RNAmodR
Version: 1.18.0
Command: /Library/Frameworks/R.framework/Resources/bin/R CMD check --install=check:RNAmodR.install-out.txt --library=/Library/Frameworks/R.framework/Resources/library --no-vignettes --timings RNAmodR_1.18.0.tar.gz
StartedAt: 2024-06-09 22:39:37 -0400 (Sun, 09 Jun 2024)
EndedAt: 2024-06-09 22:49:46 -0400 (Sun, 09 Jun 2024)
EllapsedTime: 609.2 seconds
RetCode: 0
Status: OK
CheckDir: RNAmodR.Rcheck
Warnings: 0