Package: RMassBank
Version: 3.14.0
Command: F:\biocbuild\bbs-3.19-bioc\R\bin\R.exe CMD check --no-multiarch --install=check:RMassBank.install-out.txt --library=F:\biocbuild\bbs-3.19-bioc\R\library --no-vignettes --timings RMassBank_3.14.0.tar.gz
StartedAt: 2024-06-27 05:28:30 -0400 (Thu, 27 Jun 2024)
EndedAt: 2024-06-27 05:34:19 -0400 (Thu, 27 Jun 2024)
EllapsedTime: 349.2 seconds
RetCode: 0
Status: OK
CheckDir: RMassBank.Rcheck
Warnings: 0