Package: RMassBank
Version: 3.14.0
Command: rm -rf RMassBank.buildbin-libdir && mkdir RMassBank.buildbin-libdir && F:\biocbuild\bbs-3.19-bioc\R\bin\R.exe CMD INSTALL --build --library=RMassBank.buildbin-libdir RMassBank_3.14.0.tar.gz
StartedAt: 2024-06-27 08:48:08 -0400 (Thu, 27 Jun 2024)
EndedAt: 2024-06-27 08:49:35 -0400 (Thu, 27 Jun 2024)
EllapsedTime: 87.0 seconds
RetCode: 0
Status: OK
PackageFile: RMassBank_3.14.0.zip
PackageFileSize: 1.995 <A href="http://en.wikipedia.org/wiki/MiB" target="_blank">MiB</A>