##############################################################################
##############################################################################
###
### Running command:
###
###   rm -rf RMassBank.buildbin-libdir && mkdir RMassBank.buildbin-libdir && F:\biocbuild\bbs-3.19-bioc\R\bin\R.exe CMD INSTALL --build --library=RMassBank.buildbin-libdir RMassBank_3.14.0.tar.gz
###
##############################################################################
##############################################################################


* installing *source* package 'RMassBank' ...
** using staged installation
** R
** inst
** byte-compile and prepare package for lazy loading
** help
*** installing help indices
** building package indices
** installing vignettes
** testing if installed package can be loaded from temporary location
** testing if installed package can be loaded from final location
** testing if installed package keeps a record of temporary installation path
* MD5 sums
packaged installation of 'RMassBank' as RMassBank_3.14.0.zip
* DONE (RMassBank)