Package: RMassBank
Version: 3.14.0
Command: /home/biocbuild/R/R-beta-2024-04-15_r86425/bin/R CMD check --install=check:RMassBank.install-out.txt --library=/home/biocbuild/R/R-beta-2024-04-15_r86425/site-library --no-vignettes --timings RMassBank_3.14.0.tar.gz
StartedAt: 2024-05-06 11:11:14 -0000 (Mon, 06 May 2024)
EndedAt: 2024-05-06 11:18:18 -0000 (Mon, 06 May 2024)
EllapsedTime: 423.8 seconds
RetCode: 1
Status: ERROR
CheckDir: RMassBank.Rcheck
Warnings: NA