Package: RJMCMCNucleosomes
Version: 1.28.0
Maintainer: Astrid Deschênes
MaintainerEmail: adeschen at hotmail.com
git_url: https://git.bioconductor.org/packages/RJMCMCNucleosomes
git_branch: RELEASE_3_19
git_last_commit: 64c5ae6
git_last_commit_date: 2024-04-30 10:55:42 -0400 (Tue, 30 Apr 2024)