Package: RImmPort
Version: 1.32.0
Command: E:\biocbuild\bbs-3.19-bioc\R\bin\R.exe CMD check --no-multiarch --install=check:RImmPort.install-out.txt --library=E:\biocbuild\bbs-3.19-bioc\R\library --no-vignettes --timings RImmPort_1.32.0.tar.gz
StartedAt: 2024-10-17 05:05:21 -0400 (Thu, 17 Oct 2024)
EndedAt: 2024-10-17 05:06:20 -0400 (Thu, 17 Oct 2024)
EllapsedTime: 58.7 seconds
RetCode: 0
Status: OK
CheckDir: RImmPort.Rcheck
Warnings: 0