Package: RImmPort
Version: 1.32.0
Command: chmod a+r RImmPort -R && E:\biocbuild\bbs-3.19-bioc\R\bin\R.exe CMD build --keep-empty-dirs --no-resave-data RImmPort
StartedAt: 2024-10-16 21:31:40 -0400 (Wed, 16 Oct 2024)
EndedAt: 2024-10-16 21:32:21 -0400 (Wed, 16 Oct 2024)
EllapsedTime: 40.5 seconds
RetCode: 0
Status: OK
PackageFile: RImmPort_1.32.0.tar.gz
PackageFileSize: 2.828 <A href="http://en.wikipedia.org/wiki/MiB" target="_blank">MiB</A>