Package: RImmPort
Version: 1.32.0
Command: rm -rf RImmPort.buildbin-libdir && mkdir RImmPort.buildbin-libdir && E:\biocbuild\bbs-3.19-bioc\R\bin\R.exe CMD INSTALL --build --library=RImmPort.buildbin-libdir RImmPort_1.32.0.tar.gz
StartedAt: 2024-10-17 08:30:08 -0400 (Thu, 17 Oct 2024)
EndedAt: 2024-10-17 08:30:41 -0400 (Thu, 17 Oct 2024)
EllapsedTime: 33.2 seconds
RetCode: 0
Status: OK
PackageFile: RImmPort_1.32.0.zip
PackageFileSize: 2.523 <A href="http://en.wikipedia.org/wiki/MiB" target="_blank">MiB</A>