Package: RImmPort
Version: 1.32.0
Command: /home/biocbuild/bbs-3.19-bioc/R/bin/R CMD INSTALL RImmPort
StartedAt: 2024-10-16 16:00:44 -0400 (Wed, 16 Oct 2024)
EndedAt: 2024-10-16 16:00:51 -0400 (Wed, 16 Oct 2024)
EllapsedTime: 7.3 seconds
RetCode: 0
Status: OK